BEGIN:VCALENDAR
VERSION:2.0
PRODID:-//Milwaukee Area College Internship Consortium - ECPv5.3.1.1//NONSGML v1.0//EN
CALSCALE:GREGORIAN
METHOD:PUBLISH
X-WR-CALNAME:Milwaukee Area College Internship Consortium
X-ORIGINAL-URL:https://macic.org
X-WR-CALDESC:Events for Milwaukee Area College Internship Consortium
BEGIN:VTIMEZONE
TZID:UTC
BEGIN:STANDARD
TZOFFSETFROM:+0000
TZOFFSETTO:+0000
TZNAME:UTC
DTSTART:20250101T000000
END:STANDARD
END:VTIMEZONE
BEGIN:VEVENT
DTSTART;TZID=UTC:20251205T080000
DTEND;TZID=UTC:20251205T110000
DTSTAMP:20260423T220114
CREATED:20251113T182110Z
LAST-MODIFIED:20251113T203717Z
UID:3114-1764921600-1764932400@macic.org
SUMMARY:MACIC Professional Development Meeting
DESCRIPTION:Join MACIC on Friday\, December 5th for our first professional development session of the 2025-2026 year! \nCome hear panelists from the City of Milwaukee\, Rockwell Automation\, Pace\, and Komatsu speak about our session topic—”Thriving Amid Change: Preparing Gen Z for the Future of STEM Work.” \nOur event will take place at the Frank P. Zeidler Municipal Building (841 N Broadway\, Milwaukee\, WI 53202)\, beginning at 8:30 AM with a continental breakfast and networking. Panelists will speak from 9:00 AM until 10:00 AM. \nParking will be available at 1000 N. Water St.—the building with the pink mirrored windows across from Red Arrow Park. Enter the structure on Market Street.  \n 
URL:https://macic.org/event/macic-professional-development-meeting/
ORGANIZER;CN="MACIC":MAILTO:tekipp@stritch.edu
END:VEVENT
END:VCALENDAR